BEGIN:VCALENDAR
VERSION:2.0
PRODID:-//Barbara Jungfer - Jazzgitarristin - ECPv6.15.20//NONSGML v1.0//EN
CALSCALE:GREGORIAN
METHOD:PUBLISH
X-ORIGINAL-URL:https://barbarajungfer.de
X-WR-CALDESC:Veranstaltungen für Barbara Jungfer - Jazzgitarristin
REFRESH-INTERVAL;VALUE=DURATION:PT1H
X-Robots-Tag:noindex
X-PUBLISHED-TTL:PT1H
BEGIN:VTIMEZONE
TZID:Europe/Berlin
BEGIN:DAYLIGHT
TZOFFSETFROM:+0100
TZOFFSETTO:+0200
TZNAME:CEST
DTSTART:20250330T010000
END:DAYLIGHT
BEGIN:STANDARD
TZOFFSETFROM:+0200
TZOFFSETTO:+0100
TZNAME:CET
DTSTART:20251026T010000
END:STANDARD
BEGIN:DAYLIGHT
TZOFFSETFROM:+0100
TZOFFSETTO:+0200
TZNAME:CEST
DTSTART:20260329T010000
END:DAYLIGHT
BEGIN:STANDARD
TZOFFSETFROM:+0200
TZOFFSETTO:+0100
TZNAME:CET
DTSTART:20261025T010000
END:STANDARD
BEGIN:DAYLIGHT
TZOFFSETFROM:+0100
TZOFFSETTO:+0200
TZNAME:CEST
DTSTART:20270328T010000
END:DAYLIGHT
BEGIN:STANDARD
TZOFFSETFROM:+0200
TZOFFSETTO:+0100
TZNAME:CET
DTSTART:20271031T010000
END:STANDARD
END:VTIMEZONE
BEGIN:VEVENT
DTSTART;TZID=Europe/Berlin:20260626T200000
DTEND;TZID=Europe/Berlin:20260626T213000
DTSTAMP:20260422T131626
CREATED:20260324T181650Z
LAST-MODIFIED:20260324T190514Z
UID:446-1782504000-1782509400@barbarajungfer.de
SUMMARY:26.6.2026 Horizont:innen Festival\, Landshut
DESCRIPTION:Barbara Jungfer Trio „Folksongs & Originals“ \nB.J. -g\, comp.\, arr. \nKaroline Höfler – kb \nFerenc Mehl – dr \n  \nFoto: Hannes Rohrer
URL:https://barbarajungfer.de/event/26-6-2026-horizontinnen-festival-landshut/
END:VEVENT
END:VCALENDAR